BEGIN:VCALENDAR
VERSION:2.0
PRODID:-//Tukios.com/
BEGIN:VEVENT
UID:5d5dc828-4500-417b-8cd5-7686fb80337f@www.combestfamilyfuneralhomes.com
DTSTAMP:20260424T030542Z
DTSTART:20260425T150000Z
DTEND:20260425T154500Z
SUMMARY:Visitation
DESCRIPTION:
URL:https://www.combestfamilyfuneralhomes.com/obituaries/dr-frederick-miller
LOCATION: 1821 Main St  Tahoka TX 79373
GEO:33.1681521;-101.7964588
END:VEVENT
END:VCALENDAR