BEGIN:VCALENDAR
VERSION:2.0
PRODID:-//Tukios.com/
BEGIN:VEVENT
UID:e9accd08-5e8f-4763-874d-0e688c338990@www.combestfamilyfuneralhomes.com
DTSTAMP:20260424T031101Z
DTSTART:20260425T160000Z
DTEND:20260425T170000Z
SUMMARY:Funeral Service
DESCRIPTION:
URL:https://www.combestfamilyfuneralhomes.com/obituaries/dr-frederick-miller
LOCATION: 1821 Main St  Tahoka TX 79373
GEO:33.1681521;-101.7964588
END:VEVENT
END:VCALENDAR