BEGIN:VCALENDAR
VERSION:2.0
PRODID:-//Tukios.com/
BEGIN:VEVENT
UID:e0862fa9-59d3-4af5-afc5-3d2e8cdef09d@www.combestfamilyfuneralhomes.com
DTSTAMP:20260424T030434Z
DTSTART:20260427T150000Z
DTEND:20260427T153000Z
SUMMARY:Graveside Service
DESCRIPTION:
URL:https://www.combestfamilyfuneralhomes.com/obituaries/dr-frederick-miller
LOCATION:Kurten Cemetery Kurten Cemetery Rd  Kurten TX 77808
GEO:30.7918994;-96.2826147
END:VEVENT
END:VCALENDAR