BEGIN:VCALENDAR
VERSION:2.0
PRODID:-//Tukios.com/
BEGIN:VEVENT
UID:b4780dcf-ad13-47d4-8a07-e0e24906ed21@www.combestfamilyfuneralhomes.com
DTSTAMP:20260420T230943Z
DTSTART:20260424T230000Z
DTEND:20260425T010000Z
SUMMARY:Visitation
DESCRIPTION:
URL:https://www.combestfamilyfuneralhomes.com/obituaries/guadalupe-t-garcia
LOCATION: 2202 Broadway St  Lubbock TX 79401
GEO:33.5848173;-101.8643716
END:VEVENT
END:VCALENDAR