BEGIN:VCALENDAR
VERSION:2.0
PRODID:-//Tukios.com/
BEGIN:VEVENT
UID:749ed0b5-e547-4fec-8db7-709747eaefbc@www.combestfamilyfuneralhomes.com
DTSTAMP:20260424T203320Z
DTSTART:20260430T220000Z
DTEND:20260501T000000Z
SUMMARY:Visitation
DESCRIPTION:
URL:https://www.combestfamilyfuneralhomes.com/obituaries/julia-martinez
LOCATION: 2210 Broadway St  Lubbock TX 79401
GEO:33.5848233;-101.8649097
END:VEVENT
END:VCALENDAR