BEGIN:VCALENDAR
VERSION:2.0
PRODID:-//Tukios.com/
BEGIN:VEVENT
UID:4acdcac7-32ea-4a5d-b9b5-b4ae32f37d48@www.combestfamilyfuneralhomes.com
DTSTAMP:20260424T202600Z
DTSTART:20260501T000000Z
DTEND:20260501T010000Z
SUMMARY:Rosary
DESCRIPTION:
URL:https://www.combestfamilyfuneralhomes.com/obituaries/julia-martinez
LOCATION: 2210 Broadway St  Lubbock TX 79401
GEO:33.5848233;-101.8649097
END:VEVENT
END:VCALENDAR