BEGIN:VCALENDAR
VERSION:2.0
PRODID:-//Tukios.com/
BEGIN:VEVENT
UID:55af6421-c0a8-4aed-a153-45b1b056103d@www.combestfamilyfuneralhomes.com
DTSTAMP:20260424T203120Z
DTSTART:20260501T150000Z
DTEND:20260501T160000Z
SUMMARY:Funeral Service
DESCRIPTION:
URL:https://www.combestfamilyfuneralhomes.com/obituaries/julia-martinez
LOCATION: 3111 Erskine Street  Lubbock TX 79415
GEO:33.6071927;-101.8831216
END:VEVENT
END:VCALENDAR