BEGIN:VCALENDAR
VERSION:2.0
PRODID:-//Tukios.com/
BEGIN:VEVENT
UID:a5fb45c7-b156-4f37-bd9a-035cab25935f@www.combestfamilyfuneralhomes.com
DTSTAMP:20260423T182339Z
DTSTART:20260516T153000Z
DTEND:20260516T163000Z
SUMMARY:Celebration of Life
DESCRIPTION:
URL:https://www.combestfamilyfuneralhomes.com/obituaries/linda-cunningham
LOCATION: 3801 98th St  Lubbock TX 79423
GEO:33.5036042;-101.8967998
END:VEVENT
END:VCALENDAR