BEGIN:VCALENDAR
VERSION:2.0
PRODID:-//Tukios.com/
BEGIN:VEVENT
UID:b4126add-79c3-4f63-9353-5c9d88c94c86@www.combestfamilyfuneralhomes.com
DTSTAMP:20260420T210617Z
DTSTART:20260424T190000Z
DTEND:20260425T010000Z
SUMMARY:Visitation
DESCRIPTION:
URL:https://www.combestfamilyfuneralhomes.com/obituaries/manuel-flores-sr
LOCATION: 2210 Broadway St  Lubbock TX 79401
GEO:33.5848233;-101.8649097
END:VEVENT
END:VCALENDAR