BEGIN:VCALENDAR
VERSION:2.0
PRODID:-//Tukios.com/
BEGIN:VEVENT
UID:7ec7081d-3a3b-4048-9590-048133b7b9b1@www.combestfamilyfuneralhomes.com
DTSTAMP:20260420T211044Z
DTSTART:20260425T150000Z
DTEND:20260425T160000Z
SUMMARY:Funeral Service
DESCRIPTION:
URL:https://www.combestfamilyfuneralhomes.com/obituaries/manuel-flores-sr
LOCATION: 5917 66th St  Lubbock TX 79424
GEO:33.5340181;-101.9447125
END:VEVENT
END:VCALENDAR