BEGIN:VCALENDAR
VERSION:2.0
PRODID:-//Tukios.com/
BEGIN:VEVENT
UID:cd61479d-d56a-4b5e-8b0b-b1117baaa0d1@www.combestfamilyfuneralhomes.com
DTSTAMP:20260420T210158Z
DTSTART:20260425T160000Z
DTEND:20260425T170000Z
SUMMARY:Burial
DESCRIPTION:
URL:https://www.combestfamilyfuneralhomes.com/obituaries/manuel-flores-sr
LOCATION: 15602 TX-493 Loop  Lubbock TX 79423
GEO:33.452003;-101.8445299
END:VEVENT
END:VCALENDAR