BEGIN:VCALENDAR
VERSION:2.0
PRODID:-//Tukios.com/
BEGIN:VEVENT
UID:bc9fd6d3-9f91-4e77-8e45-eb48e16317e2@www.combestfamilyfuneralhomes.com
DTSTAMP:20260421T214843Z
DTSTART:20260502T183000Z
DTEND:20260502T193000Z
SUMMARY:Memorial Service
DESCRIPTION:
URL:https://www.combestfamilyfuneralhomes.com/obituaries/nancy-hartsfield
LOCATION:Lake Ransom Canyon Chapel 31 E. Brookhollow  Ransom Canyon TX 
	79366
GEO:33.5336523;-101.6824368
END:VEVENT
END:VCALENDAR